BEGIN:VCALENDAR
VERSION:2.0
PRODID:-//Ifield Lodge 7931 - ECPv6.0.6.2//NONSGML v1.0//EN
CALSCALE:GREGORIAN
METHOD:PUBLISH
X-ORIGINAL-URL:https://ifieldlodge.org.uk
X-WR-CALDESC:Events for Ifield Lodge 7931
REFRESH-INTERVAL;VALUE=DURATION:PT1H
X-Robots-Tag:noindex
X-PUBLISHED-TTL:PT1H
BEGIN:VTIMEZONE
TZID:Europe/London
BEGIN:DAYLIGHT
TZOFFSETFROM:+0000
TZOFFSETTO:+0100
TZNAME:BST
DTSTART:20250330T010000
END:DAYLIGHT
BEGIN:STANDARD
TZOFFSETFROM:+0100
TZOFFSETTO:+0000
TZNAME:GMT
DTSTART:20251026T010000
END:STANDARD
END:VTIMEZONE
BEGIN:VEVENT
DTSTART;TZID=Europe/London:20251212T190000
DTEND;TZID=Europe/London:20251212T233000
DTSTAMP:20260421T113731
CREATED:20220725T161426Z
LAST-MODIFIED:20250827T083006Z
UID:25875-1765566000-1765582200@ifieldlodge.org.uk
SUMMARY:Christmas Supper
DESCRIPTION:Royal Thai Taste for our annual Christmas festivities with our partners for some fun and Christmas Carols
URL:https://ifieldlodge.org.uk/event/christmas-supper/
LOCATION:Royal Thai Taste\, 58a High St\, Crawley\, West Sussex\, RH10 1BT\, United Kingdom
CATEGORIES:Supper
ATTACH;FMTTYPE=image/jpeg:https://ifieldlodge.org.uk/wp-content/uploads/xmas-party.jpg
END:VEVENT
END:VCALENDAR